BEGIN:VCALENDAR
METHOD:PUBLISH
PRODID:Data::ICal 0.13
VERSION:2.0
BEGIN:VEVENT
DESCRIPTION:Karen Vaughn loves to get social. Kick off your weekend with Karen as she out in the city every Friday to shop, eat, learn, party and have fun. What are your favorite Friday hot spots? Hit us up on Facebook, Twitter or Instagram @RNBPhilly or @KarenVaughn hash tag #KarenInTheCity and let Karen know where you hang out and she will stop by with prizes for you and your crew. \n\nWhere should Karen roll to next? Let her know on Facebook, Twitter or Instagram @KarenVaughn.
DTSTAMP:20260421T082931Z
DTSTART;TZID=America/New_York:20180717T220000
DTEND;TZID=America/New_York:20180831T220000
LOCATION:
SUMMARY:Karen in the City
UID:2914408-1531864800-1535752800
END:VEVENT
END:VCALENDAR
